BEGIN:VCALENDAR
VERSION:2.0
PRODID:-//Tukios.com/
BEGIN:VEVENT
UID:c909eb87-94b3-4e63-a1dc-fda2e7cd85a6@www.journeymemorialchapel.com
DTSTAMP:20260421T082215Z
DTSTART:20260425T150000Z
DTEND:20260425T160000Z
SUMMARY:Funeral Service
DESCRIPTION:
URL:https://www.journeymemorialchapel.com/obituaries/georgia-gilbert
LOCATION: 911 9th St  West Palm Beach FL 33401
GEO:26.7219257;-80.0612168
END:VEVENT
END:VCALENDAR