BEGIN:VCALENDAR
VERSION:2.0
PRODID:-//Tukios.com/
BEGIN:VEVENT
UID:8226359d-55c9-4fe2-9f9b-ab38acf4a9db@www.journeymemorialchapel.com
DTSTAMP:20260421T082236Z
DTSTART:20260424T210000Z
DTEND:20260425T000000Z
SUMMARY:Visitation
DESCRIPTION:
URL:https://www.journeymemorialchapel.com/obituaries/georgia-gilbert
LOCATION: 911 9th St  West Palm Beach FL 33401
GEO:26.7219257;-80.0612168
END:VEVENT
END:VCALENDAR